BEGIN:VCALENDAR
VERSION:2.0
PRODID:-//YDF - ECPv6.15.12.2//NONSGML v1.0//EN
CALSCALE:GREGORIAN
METHOD:PUBLISH
X-WR-CALNAME:YDF
X-ORIGINAL-URL:https://ydf.com.au
X-WR-CALDESC:Events for YDF
REFRESH-INTERVAL;VALUE=DURATION:PT1H
X-Robots-Tag:noindex
X-PUBLISHED-TTL:PT1H
BEGIN:VTIMEZONE
TZID:UTC
BEGIN:STANDARD
TZOFFSETFROM:+0000
TZOFFSETTO:+0000
TZNAME:UTC
DTSTART:20240101T000000
END:STANDARD
END:VTIMEZONE
BEGIN:VEVENT
DTSTART;TZID=UTC:20251109T120000
DTEND;TZID=UTC:20251109T160000
DTSTAMP:20260426T060319
CREATED:20250916T035811Z
LAST-MODIFIED:20250917T190404Z
UID:22659-1762689600-1762704000@ydf.com.au
SUMMARY:Sing for Cure 2025
DESCRIPTION:Yellow Diamond Brain Cancer Foundation and Viktoria Show bring you a special concert ‘Sing For Cure’ showcasing Australia’s top young singers performing to raise funds for research into children’s brain cancer.\n\nWith your attendance and generous contribution we will be closer to reaching the goal of curing childhood brain cancer!\n\nCome along for a fabulous afternoon of beautiful music sung by talented young artists and enjoy some tasty sweet treats in the intermission all to support a life changing cause.\n\nYour attendance and support will be greatly appreciated!\n\nDate: 9th November 2025\nTime: 12pm\nVenue: St Stephen’s Uniting Church\nAddress: 197 Macquarie St\, Sydney NSW 2000\nTickets: $40pp\n  \n\n\n\nBUY SING FOR CURE TICKETS
URL:https://ydf.com.au/event/sing-for-cure-2025/
LOCATION:St Stephen’s Uniting Church\, 197 Macquarie St\, Sydney\, NSW 2000\, Australia\, Sydney\, New South Wales (NSW)\, 2000\, Australia
CATEGORIES:Event
ATTACH;FMTTYPE=image/jpeg:https://ydf.com.au/wp-content/uploads/2025/09/Sing-show.jpg
END:VEVENT
END:VCALENDAR