BEGIN:VCALENDAR
VERSION:2.0
PRODID:-//YDF - ECPv6.15.12.2//NONSGML v1.0//EN
CALSCALE:GREGORIAN
METHOD:PUBLISH
X-WR-CALNAME:YDF
X-ORIGINAL-URL:https://ydf.com.au
X-WR-CALDESC:Events for YDF
REFRESH-INTERVAL;VALUE=DURATION:PT1H
X-Robots-Tag:noindex
X-PUBLISHED-TTL:PT1H
BEGIN:VTIMEZONE
TZID:Australia/Melbourne
BEGIN:STANDARD
TZOFFSETFROM:+1100
TZOFFSETTO:+1000
TZNAME:AEST
DTSTART:20250405T160000
END:STANDARD
BEGIN:DAYLIGHT
TZOFFSETFROM:+1000
TZOFFSETTO:+1100
TZNAME:AEDT
DTSTART:20251004T160000
END:DAYLIGHT
BEGIN:STANDARD
TZOFFSETFROM:+1100
TZOFFSETTO:+1000
TZNAME:AEST
DTSTART:20260404T160000
END:STANDARD
BEGIN:DAYLIGHT
TZOFFSETFROM:+1000
TZOFFSETTO:+1100
TZNAME:AEDT
DTSTART:20261003T160000
END:DAYLIGHT
BEGIN:STANDARD
TZOFFSETFROM:+1100
TZOFFSETTO:+1000
TZNAME:AEST
DTSTART:20270403T160000
END:STANDARD
BEGIN:DAYLIGHT
TZOFFSETFROM:+1000
TZOFFSETTO:+1100
TZNAME:AEDT
DTSTART:20271002T160000
END:DAYLIGHT
END:VTIMEZONE
BEGIN:VEVENT
DTSTART;TZID=Australia/Melbourne:20260419T113000
DTEND;TZID=Australia/Melbourne:20260419T160000
DTSTAMP:20260426T011233
CREATED:20260113T043605Z
LAST-MODIFIED:20260113T060856Z
UID:22683-1776598200-1776614400@ydf.com.au
SUMMARY:Annual YDF Lunch 2026
DESCRIPTION:We’d love for you to join us at the Annual YDF Lunch\, our Event of the Year at Doltone House\, Darling Island Wharf. This is a very special afternoon where our community comes together to support children battling brain cancer and the families who need us most. \nYou’ll enjoy a four-course gourmet meal with beverages\, be entertained with live performances and hear inspiring stories from brave young survivors that remind us why every contribution matters. Every ticket purchased helps fund life-changing research\, provide family support programs and bring hope to children facing one of life’s toughest battles. \nDate: Sunday April 19th\nStart Time: 11:30am\nLocation: Doltone House\, Darling Island Wharf\, 48 Pirrama Rd\, Pyrmont NSW 2009\, Pyrmont NSW 2009\nDress Code: Semi Formal With A Splash Of Yellow \nTogether\, we can make a difference and show these children that they are not alone.
URL:https://ydf.com.au/event/annual-ydf-lunch-2026/
LOCATION:Doltone House -Darling Island\, 48 Pirrama Road Pyrmont NSW 2009\, Sydney\, New South Wales\, 2009\, Australia
ATTACH;FMTTYPE=image/png:https://ydf.com.au/wp-content/uploads/2026/01/annual-charity-lunch-1.png
END:VEVENT
END:VCALENDAR